BEGIN:VCALENDAR
VERSION:2.0
PRODID:-//East Dorset CAMRA - ECPv6.15.20//NONSGML v1.0//EN
CALSCALE:GREGORIAN
METHOD:PUBLISH
X-WR-CALNAME:East Dorset CAMRA
X-ORIGINAL-URL:https://eastdorset.camra.org.uk
X-WR-CALDESC:Events for East Dorset CAMRA
REFRESH-INTERVAL;VALUE=DURATION:PT1H
X-Robots-Tag:noindex
X-PUBLISHED-TTL:PT1H
BEGIN:VTIMEZONE
TZID:Europe/London
BEGIN:DAYLIGHT
TZOFFSETFROM:+0000
TZOFFSETTO:+0100
TZNAME:BST
DTSTART:20240331T010000
END:DAYLIGHT
BEGIN:STANDARD
TZOFFSETFROM:+0100
TZOFFSETTO:+0000
TZNAME:GMT
DTSTART:20241027T010000
END:STANDARD
BEGIN:DAYLIGHT
TZOFFSETFROM:+0000
TZOFFSETTO:+0100
TZNAME:BST
DTSTART:20250330T010000
END:DAYLIGHT
BEGIN:STANDARD
TZOFFSETFROM:+0100
TZOFFSETTO:+0000
TZNAME:GMT
DTSTART:20251026T010000
END:STANDARD
BEGIN:DAYLIGHT
TZOFFSETFROM:+0000
TZOFFSETTO:+0100
TZNAME:BST
DTSTART:20260329T010000
END:DAYLIGHT
BEGIN:STANDARD
TZOFFSETFROM:+0100
TZOFFSETTO:+0000
TZNAME:GMT
DTSTART:20261025T010000
END:STANDARD
END:VTIMEZONE
BEGIN:VEVENT
DTSTART;VALUE=DATE:20251213
DTEND;VALUE=DATE:20251214
DTSTAMP:20260421T193511
CREATED:20250727T203145Z
LAST-MODIFIED:20250929T125308Z
UID:10629-1765584000-1765670399@eastdorset.camra.org.uk
SUMMARY:Christmas Trip
DESCRIPTION:Visiting Eli’s\, Episcopi\, Glastonbury and The Bell Inn\, Warminster \nPick ups will be Pokesdown (0915)\, Bournemouth (0925)\, Parkstone (0935)\, Poole (0945)\nSeat Cost will be £15. \nPay for seats via branch Paypal account or contact Steve Charlton
URL:https://eastdorset.camra.org.uk/index.php/event/chistmas-trip/
CATEGORIES:Social
END:VEVENT
END:VCALENDAR