BEGIN:VCALENDAR
VERSION:2.0
PRODID:-//East Dorset CAMRA - ECPv6.15.20//NONSGML v1.0//EN
CALSCALE:GREGORIAN
METHOD:PUBLISH
X-WR-CALNAME:East Dorset CAMRA
X-ORIGINAL-URL:https://eastdorset.camra.org.uk
X-WR-CALDESC:Events for East Dorset CAMRA
REFRESH-INTERVAL;VALUE=DURATION:PT1H
X-Robots-Tag:noindex
X-PUBLISHED-TTL:PT1H
BEGIN:VTIMEZONE
TZID:Europe/London
BEGIN:DAYLIGHT
TZOFFSETFROM:+0000
TZOFFSETTO:+0100
TZNAME:BST
DTSTART:20250330T010000
END:DAYLIGHT
BEGIN:STANDARD
TZOFFSETFROM:+0100
TZOFFSETTO:+0000
TZNAME:GMT
DTSTART:20251026T010000
END:STANDARD
BEGIN:DAYLIGHT
TZOFFSETFROM:+0000
TZOFFSETTO:+0100
TZNAME:BST
DTSTART:20260329T010000
END:DAYLIGHT
BEGIN:STANDARD
TZOFFSETFROM:+0100
TZOFFSETTO:+0000
TZNAME:GMT
DTSTART:20261025T010000
END:STANDARD
BEGIN:DAYLIGHT
TZOFFSETFROM:+0000
TZOFFSETTO:+0100
TZNAME:BST
DTSTART:20270328T010000
END:DAYLIGHT
BEGIN:STANDARD
TZOFFSETFROM:+0100
TZOFFSETTO:+0000
TZNAME:GMT
DTSTART:20271031T010000
END:STANDARD
END:VTIMEZONE
BEGIN:VEVENT
DTSTART;TZID=Europe/London:20260620T130000
DTEND;TZID=Europe/London:20260620T150000
DTSTAMP:20260419T204923
CREATED:20260416T103302Z
LAST-MODIFIED:20260416T103302Z
UID:11439-1781960400-1781967600@eastdorset.camra.org.uk
SUMMARY:Branch Meeting
DESCRIPTION:Eight Arch Brewery\, Wimborne at 1pm
URL:https://eastdorset.camra.org.uk/index.php/event/branch-meeting-6/
CATEGORIES:Meeting
END:VEVENT
END:VCALENDAR