BEGIN:VCALENDAR
VERSION:2.0
PRODID:-//East Dorset CAMRA - ECPv6.15.20//NONSGML v1.0//EN
CALSCALE:GREGORIAN
METHOD:PUBLISH
X-ORIGINAL-URL:https://eastdorset.camra.org.uk
X-WR-CALDESC:Events for East Dorset CAMRA
REFRESH-INTERVAL;VALUE=DURATION:PT1H
X-Robots-Tag:noindex
X-PUBLISHED-TTL:PT1H
BEGIN:VTIMEZONE
TZID:Europe/London
BEGIN:DAYLIGHT
TZOFFSETFROM:+0000
TZOFFSETTO:+0100
TZNAME:BST
DTSTART:20240331T010000
END:DAYLIGHT
BEGIN:STANDARD
TZOFFSETFROM:+0100
TZOFFSETTO:+0000
TZNAME:GMT
DTSTART:20241027T010000
END:STANDARD
BEGIN:DAYLIGHT
TZOFFSETFROM:+0000
TZOFFSETTO:+0100
TZNAME:BST
DTSTART:20250330T010000
END:DAYLIGHT
BEGIN:STANDARD
TZOFFSETFROM:+0100
TZOFFSETTO:+0000
TZNAME:GMT
DTSTART:20251026T010000
END:STANDARD
BEGIN:DAYLIGHT
TZOFFSETFROM:+0000
TZOFFSETTO:+0100
TZNAME:BST
DTSTART:20260329T010000
END:DAYLIGHT
BEGIN:STANDARD
TZOFFSETFROM:+0100
TZOFFSETTO:+0000
TZNAME:GMT
DTSTART:20261025T010000
END:STANDARD
END:VTIMEZONE
BEGIN:VEVENT
DTSTART;TZID=Europe/London:20251002T123000
DTEND;TZID=Europe/London:20251002T170000
DTSTAMP:20260421T204611
CREATED:20250727T202555Z
LAST-MODIFIED:20250727T202555Z
UID:10621-1759408200-1759424400@eastdorset.camra.org.uk
SUMMARY:Thirsty Thursday
DESCRIPTION:Meet in The Hour Glass\, New Milton @ 1230
URL:https://eastdorset.camra.org.uk/index.php/event/thirsty-thursday-51/
CATEGORIES:Social
END:VEVENT
BEGIN:VEVENT
DTSTART;VALUE=DATE:20251004
DTEND;VALUE=DATE:20251005
DTSTAMP:20260421T204611
CREATED:20250727T202636Z
LAST-MODIFIED:20250727T202636Z
UID:10623-1759536000-1759622399@eastdorset.camra.org.uk
SUMMARY:Weymouth Beer Festival trip
DESCRIPTION:Ticket info awaited
URL:https://eastdorset.camra.org.uk/index.php/event/weymouth-beer-festival-trip-2/
CATEGORIES:Social
END:VEVENT
BEGIN:VEVENT
DTSTART;TZID=Europe/London:20251011T130000
DTEND;TZID=Europe/London:20251011T190000
DTSTAMP:20260421T204611
CREATED:20250929T124054Z
LAST-MODIFIED:20250929T124054Z
UID:11041-1760187600-1760209200@eastdorset.camra.org.uk
SUMMARY:Swanage Pub Tour
DESCRIPTION:Meet in The White Swan @ 1300
URL:https://eastdorset.camra.org.uk/index.php/event/swanage-pub-tour/
CATEGORIES:Social
END:VEVENT
BEGIN:VEVENT
DTSTART;TZID=Europe/London:20251015T123000
DTEND;TZID=Europe/London:20251015T170000
DTSTAMP:20260421T204611
CREATED:20250727T203006Z
LAST-MODIFIED:20250727T203006Z
UID:10627-1760531400-1760547600@eastdorset.camra.org.uk
SUMMARY:Don Spot: Romsey
DESCRIPTION:Meet in The Star Inn @ 1230
URL:https://eastdorset.camra.org.uk/index.php/event/don-spot-romsey/
CATEGORIES:Social
END:VEVENT
BEGIN:VEVENT
DTSTART;TZID=Europe/London:20251025T130000
DTEND;TZID=Europe/London:20251025T203000
DTSTAMP:20260421T204611
CREATED:20250717T194417Z
LAST-MODIFIED:20250727T210224Z
UID:10609-1761397200-1761424200@eastdorset.camra.org.uk
SUMMARY:Minibus Trip: Shaftesbury
DESCRIPTION:Pick up from The Barking Cat @ 1300 \nAn opportunity to visit the pubs of the town with stops on the way there and back. \nSeat Cost will be £15. Pay for seats via branch Paypal account or contact Steve Charlton.
URL:https://eastdorset.camra.org.uk/index.php/event/minibus-trip-shaftesbury-2/
CATEGORIES:Social
END:VEVENT
END:VCALENDAR