BEGIN:VCALENDAR
VERSION:2.0
PRODID:-//East Dorset CAMRA - ECPv6.15.20//NONSGML v1.0//EN
CALSCALE:GREGORIAN
METHOD:PUBLISH
X-ORIGINAL-URL:https://eastdorset.camra.org.uk
X-WR-CALDESC:Events for East Dorset CAMRA
REFRESH-INTERVAL;VALUE=DURATION:PT1H
X-Robots-Tag:noindex
X-PUBLISHED-TTL:PT1H
BEGIN:VTIMEZONE
TZID:Europe/London
BEGIN:DAYLIGHT
TZOFFSETFROM:+0000
TZOFFSETTO:+0100
TZNAME:BST
DTSTART:20250330T010000
END:DAYLIGHT
BEGIN:STANDARD
TZOFFSETFROM:+0100
TZOFFSETTO:+0000
TZNAME:GMT
DTSTART:20251026T010000
END:STANDARD
BEGIN:DAYLIGHT
TZOFFSETFROM:+0000
TZOFFSETTO:+0100
TZNAME:BST
DTSTART:20260329T010000
END:DAYLIGHT
BEGIN:STANDARD
TZOFFSETFROM:+0100
TZOFFSETTO:+0000
TZNAME:GMT
DTSTART:20261025T010000
END:STANDARD
BEGIN:DAYLIGHT
TZOFFSETFROM:+0000
TZOFFSETTO:+0100
TZNAME:BST
DTSTART:20270328T010000
END:DAYLIGHT
BEGIN:STANDARD
TZOFFSETFROM:+0100
TZOFFSETTO:+0000
TZNAME:GMT
DTSTART:20271031T010000
END:STANDARD
END:VTIMEZONE
BEGIN:VEVENT
DTSTART;TZID=Europe/London:20260318T123000
DTEND;TZID=Europe/London:20260318T170000
DTSTAMP:20260419T164953
CREATED:20260126T232818Z
LAST-MODIFIED:20260126T232818Z
UID:11295-1773837000-1773853200@eastdorset.camra.org.uk
SUMMARY:Don Spot: Poole
DESCRIPTION:Meet in The King Charles @ 1230
URL:https://eastdorset.camra.org.uk/index.php/event/don-spot-poole/
CATEGORIES:Social
END:VEVENT
BEGIN:VEVENT
DTSTART;TZID=Europe/London:20260320T200000
DTEND;TZID=Europe/London:20260320T213000
DTSTAMP:20260419T164953
CREATED:20260205T181630Z
LAST-MODIFIED:20260205T181630Z
UID:11325-1774036800-1774042200@eastdorset.camra.org.uk
SUMMARY:Branch Meeting
DESCRIPTION:Micro Moose at 8pm
URL:https://eastdorset.camra.org.uk/index.php/event/branch-meeting-4/
LOCATION:Micro Moose\, 326 Wimborne Road\, Bournemouth\, Dorset\, BH9 2HH
CATEGORIES:Meeting
END:VEVENT
BEGIN:VEVENT
DTSTART;TZID=Europe/London:20260321T200000
DTEND;TZID=Europe/London:20260321T220000
DTSTAMP:20260419T164953
CREATED:20260126T232948Z
LAST-MODIFIED:20260126T232948Z
UID:11297-1774123200-1774130400@eastdorset.camra.org.uk
SUMMARY:Pub of the Year Presentation
DESCRIPTION:The Barking Cat @ 8pm.
URL:https://eastdorset.camra.org.uk/index.php/event/pub-of-the-year-presentation/
LOCATION:The Barking Cat Ale House\, 182-184 Ashley Road\, BH14 9BY
CATEGORIES:Social
END:VEVENT
BEGIN:VEVENT
DTSTART;TZID=Europe/London:20260402T123000
DTEND;TZID=Europe/London:20260402T170000
DTSTAMP:20260419T164953
CREATED:20260205T181851Z
LAST-MODIFIED:20260205T181851Z
UID:11327-1775133000-1775149200@eastdorset.camra.org.uk
SUMMARY:Thirsty Thursday
DESCRIPTION:Meet in The Hour Glass\, New Milton @ 1230
URL:https://eastdorset.camra.org.uk/index.php/event/thirsty-thursday-4/
CATEGORIES:Social
END:VEVENT
BEGIN:VEVENT
DTSTART;TZID=Europe/London:20260415T123000
DTEND;TZID=Europe/London:20260415T170000
DTSTAMP:20260419T164953
CREATED:20260205T181953Z
LAST-MODIFIED:20260205T181953Z
UID:11329-1776256200-1776272400@eastdorset.camra.org.uk
SUMMARY:Don Spot: TBC
DESCRIPTION:Details TBC
URL:https://eastdorset.camra.org.uk/index.php/event/don-spot-tbc/
CATEGORIES:Social
END:VEVENT
BEGIN:VEVENT
DTSTART;TZID=Europe/London:20260418T123000
DTEND;TZID=Europe/London:20260418T170000
DTSTAMP:20260419T164953
CREATED:20260205T182106Z
LAST-MODIFIED:20260205T182106Z
UID:11331-1776515400-1776531600@eastdorset.camra.org.uk
SUMMARY:Branch Meeting and COTY Presentation
DESCRIPTION:Branch Meeting and Club of the Year Presentation \nCorfe Castle Club @ 1230 for presentation\, branch meeting at 1pm.
URL:https://eastdorset.camra.org.uk/index.php/event/branch-meeting-and-coty-presentation/
CATEGORIES:Meeting
END:VEVENT
BEGIN:VEVENT
DTSTART;TZID=Europe/London:20260424T193000
DTEND;TZID=Europe/London:20260424T220000
DTSTAMP:20260419T164953
CREATED:20260416T102600Z
LAST-MODIFIED:20260416T102600Z
UID:11423-1777059000-1777068000@eastdorset.camra.org.uk
SUMMARY:Urban Spring POTS presentation
DESCRIPTION:Firkin Shed presentation at 8pm.
URL:https://eastdorset.camra.org.uk/index.php/event/urban-spring-pots-presentation/
CATEGORIES:Social
END:VEVENT
BEGIN:VEVENT
DTSTART;TZID=Europe/London:20260425T130000
DTEND;TZID=Europe/London:20260425T200000
DTSTAMP:20260419T164953
CREATED:20260416T102706Z
LAST-MODIFIED:20260416T102706Z
UID:11425-1777122000-1777147200@eastdorset.camra.org.uk
SUMMARY:Minibus trip 1 and Rural POTS presentation
DESCRIPTION:Pick up Brewhouse at 1pm. Trip to Bryanston\, Blandford St Mary\, Okeford Fitzpaine\, Iwern Courtney &\nSpetisbury. Rural Spring POTS to the Stour at 3pm.
URL:https://eastdorset.camra.org.uk/index.php/event/minibus-trip-1-and-rural-pots-presentation/
CATEGORIES:Social
END:VEVENT
BEGIN:VEVENT
DTSTART;TZID=Europe/London:20260507T123000
DTEND;TZID=Europe/London:20260507T170000
DTSTAMP:20260419T164953
CREATED:20260416T102749Z
LAST-MODIFIED:20260416T102749Z
UID:11427-1778157000-1778173200@eastdorset.camra.org.uk
SUMMARY:Thirsty Thursday
DESCRIPTION:Meet in The Hour Glass\, New Milton @ 1230
URL:https://eastdorset.camra.org.uk/index.php/event/thirsty-thursday-6/
CATEGORIES:Social
END:VEVENT
BEGIN:VEVENT
DTSTART;VALUE=DATE:20260509
DTEND;VALUE=DATE:20260510
DTSTAMP:20260419T164953
CREATED:20260416T102838Z
LAST-MODIFIED:20260416T102838Z
UID:11429-1778284800-1778371199@eastdorset.camra.org.uk
SUMMARY:Swanage Railway Beer Festival
DESCRIPTION:
URL:https://eastdorset.camra.org.uk/index.php/event/swanage-railway-beer-festival/
CATEGORIES:Social
END:VEVENT
BEGIN:VEVENT
DTSTART;TZID=Europe/London:20260513T123000
DTEND;TZID=Europe/London:20260513T170000
DTSTAMP:20260419T164953
CREATED:20260416T102919Z
LAST-MODIFIED:20260416T102919Z
UID:11431-1778675400-1778691600@eastdorset.camra.org.uk
SUMMARY:Don Spot: Lower Parkstone
DESCRIPTION:Meet at the Bricklayers at 12.30 pm
URL:https://eastdorset.camra.org.uk/index.php/event/don-spot-lower-parkstone/
CATEGORIES:Social
END:VEVENT
BEGIN:VEVENT
DTSTART;TZID=Europe/London:20260516T143000
DTEND;TZID=Europe/London:20260516T170000
DTSTAMP:20260419T164953
CREATED:20260205T182212Z
LAST-MODIFIED:20260205T182212Z
UID:11333-1778941800-1778950800@eastdorset.camra.org.uk
SUMMARY:Branch Meeting
DESCRIPTION:Firkin Shed Arch at 2.30pm. Pub will open at 2pm
URL:https://eastdorset.camra.org.uk/index.php/event/branch-meeting-5/
CATEGORIES:Meeting
END:VEVENT
BEGIN:VEVENT
DTSTART;TZID=Europe/London:20260530T130000
DTEND;TZID=Europe/London:20260530T190000
DTSTAMP:20260419T164953
CREATED:20260416T103028Z
LAST-MODIFIED:20260416T103028Z
UID:11433-1780146000-1780167600@eastdorset.camra.org.uk
SUMMARY:Minibus trip 2
DESCRIPTION:Pick up Barking Cat at 1pm. Alderholt\, Cranborne\, Gussage\, Horton & Shapwick
URL:https://eastdorset.camra.org.uk/index.php/event/minibus-trip-2/
CATEGORIES:Social
END:VEVENT
BEGIN:VEVENT
DTSTART;TZID=Europe/London:20260604T123000
DTEND;TZID=Europe/London:20260604T170000
DTSTAMP:20260419T164953
CREATED:20260416T103122Z
LAST-MODIFIED:20260416T103122Z
UID:11435-1780576200-1780592400@eastdorset.camra.org.uk
SUMMARY:Thirsty Thursday
DESCRIPTION:Meet in The Hour Glass\, New Milton @ 1230
URL:https://eastdorset.camra.org.uk/index.php/event/thirsty-thursday-7/
CATEGORIES:Social
END:VEVENT
BEGIN:VEVENT
DTSTART;TZID=Europe/London:20260617T123000
DTEND;TZID=Europe/London:20260617T170000
DTSTAMP:20260419T164953
CREATED:20260416T103216Z
LAST-MODIFIED:20260416T103216Z
UID:11437-1781699400-1781715600@eastdorset.camra.org.uk
SUMMARY:Don Spot: Dorchester
DESCRIPTION:Meet in the Copper Street Taproom by Dorchester South Station at 12.30 pm
URL:https://eastdorset.camra.org.uk/index.php/event/don-spot-dorchester/
CATEGORIES:Social
END:VEVENT
BEGIN:VEVENT
DTSTART;TZID=Europe/London:20260620T130000
DTEND;TZID=Europe/London:20260620T150000
DTSTAMP:20260419T164953
CREATED:20260416T103302Z
LAST-MODIFIED:20260416T103302Z
UID:11439-1781960400-1781967600@eastdorset.camra.org.uk
SUMMARY:Branch Meeting
DESCRIPTION:Eight Arch Brewery\, Wimborne at 1pm
URL:https://eastdorset.camra.org.uk/index.php/event/branch-meeting-6/
CATEGORIES:Meeting
END:VEVENT
BEGIN:VEVENT
DTSTART;TZID=Europe/London:20260627T123000
DTEND;TZID=Europe/London:20260627T190000
DTSTAMP:20260419T164953
CREATED:20260416T103409Z
LAST-MODIFIED:20260416T103409Z
UID:11441-1782563400-1782586800@eastdorset.camra.org.uk
SUMMARY:Minibus trip 3
DESCRIPTION:Pick up Brewhouse at 12.30pm. Studland\, the Matravers and Church Knowle.
URL:https://eastdorset.camra.org.uk/index.php/event/minibus-trip-3-2/
CATEGORIES:Social
END:VEVENT
BEGIN:VEVENT
DTSTART;TZID=Europe/London:20260702T123000
DTEND;TZID=Europe/London:20260702T170000
DTSTAMP:20260419T164953
CREATED:20260416T103503Z
LAST-MODIFIED:20260416T103503Z
UID:11443-1782995400-1783011600@eastdorset.camra.org.uk
SUMMARY:Thirsty Thursday
DESCRIPTION:Meet in The Hour Glass\, New Milton @ 1230
URL:https://eastdorset.camra.org.uk/index.php/event/thirsty-thursday-8/
CATEGORIES:Social
END:VEVENT
BEGIN:VEVENT
DTSTART;VALUE=DATE:20260704
DTEND;VALUE=DATE:20260705
DTSTAMP:20260419T164953
CREATED:20260416T103611Z
LAST-MODIFIED:20260416T103611Z
UID:11445-1783123200-1783209599@eastdorset.camra.org.uk
SUMMARY:Hall & Woodhouse Beer Festival
DESCRIPTION:Hall & Woodhouse Brewery\, Blandford St Mary Time and bus TBC
URL:https://eastdorset.camra.org.uk/index.php/event/hall-woodhouse-beer-festival/
CATEGORIES:Social
END:VEVENT
BEGIN:VEVENT
DTSTART;TZID=Europe/London:20260718T123000
DTEND;TZID=Europe/London:20260718T190000
DTSTAMP:20260419T164953
CREATED:20260416T103729Z
LAST-MODIFIED:20260416T103729Z
UID:11447-1784377800-1784401200@eastdorset.camra.org.uk
SUMMARY:Minibus trip 4
DESCRIPTION:Pick up Brewhouse at 12.30pm. Marden\, Almer\, Wool\, Milbourne and Pamphill
URL:https://eastdorset.camra.org.uk/index.php/event/minibus-trip-4-2/
CATEGORIES:Social
END:VEVENT
BEGIN:VEVENT
DTSTART;TZID=Europe/London:20260725T130000
DTEND;TZID=Europe/London:20260725T150000
DTSTAMP:20260419T164953
CREATED:20260416T103840Z
LAST-MODIFIED:20260416T103923Z
UID:11449-1784984400-1784991600@eastdorset.camra.org.uk
SUMMARY:Branch Meeting
DESCRIPTION:Barking Cat Brewery Taproom\, Poole at 1pm. Note the brewery\, not the pub.
URL:https://eastdorset.camra.org.uk/index.php/event/branch-meeting-7/
CATEGORIES:Meeting
END:VEVENT
BEGIN:VEVENT
DTSTART;TZID=Europe/London:20260806T123000
DTEND;TZID=Europe/London:20260806T170000
DTSTAMP:20260419T164953
CREATED:20260416T104032Z
LAST-MODIFIED:20260416T104032Z
UID:11451-1786019400-1786035600@eastdorset.camra.org.uk
SUMMARY:Thirsty Thursday
DESCRIPTION:Meet in The Hour Glass\, New Milton @ 1230
URL:https://eastdorset.camra.org.uk/index.php/event/thirsty-thursday-9/
CATEGORIES:Social
END:VEVENT
BEGIN:VEVENT
DTSTART;TZID=Europe/London:20260815T123000
DTEND;TZID=Europe/London:20260815T190000
DTSTAMP:20260419T164953
CREATED:20260416T104236Z
LAST-MODIFIED:20260416T104236Z
UID:11453-1786797000-1786820400@eastdorset.camra.org.uk
SUMMARY:Minibus trip 5
DESCRIPTION:Pick up Brewhouse at 12.30pm. Shaftesbury\, Sixpenny Handley\, Stourpaine and Pimperne
URL:https://eastdorset.camra.org.uk/index.php/event/minibus-trip-5/
CATEGORIES:Social
END:VEVENT
BEGIN:VEVENT
DTSTART;TZID=Europe/London:20260828T200000
DTEND;TZID=Europe/London:20260828T213000
DTSTAMP:20260419T164953
CREATED:20260416T104439Z
LAST-MODIFIED:20260416T104439Z
UID:11455-1787947200-1787952600@eastdorset.camra.org.uk
SUMMARY:Branch Meeting
DESCRIPTION:Goat & Tricycle at 8pm
URL:https://eastdorset.camra.org.uk/index.php/event/branch-meeting-8/
CATEGORIES:Meeting
END:VEVENT
BEGIN:VEVENT
DTSTART;VALUE=DATE:20260829
DTEND;VALUE=DATE:20260830
DTSTAMP:20260419T164953
CREATED:20260416T104541Z
LAST-MODIFIED:20260416T104541Z
UID:11457-1787961600-1788047999@eastdorset.camra.org.uk
SUMMARY:East Bristol Brewery Tour
DESCRIPTION:Trains to be advised
URL:https://eastdorset.camra.org.uk/index.php/event/east-bristol-brewery-tour/
CATEGORIES:Social
END:VEVENT
BEGIN:VEVENT
DTSTART;VALUE=DATE:20260912
DTEND;VALUE=DATE:20260913
DTSTAMP:20260419T164953
CREATED:20260416T104636Z
LAST-MODIFIED:20260416T104636Z
UID:11459-1789171200-1789257599@eastdorset.camra.org.uk
SUMMARY:Sturminster Newton Cheese Festival
DESCRIPTION:Picks ups tbc
URL:https://eastdorset.camra.org.uk/index.php/event/sturminster-newton-cheese-festival-2/
CATEGORIES:Social
END:VEVENT
BEGIN:VEVENT
DTSTART;VALUE=DATE:20260919
DTEND;VALUE=DATE:20260920
DTSTAMP:20260419T164953
CREATED:20260416T104718Z
LAST-MODIFIED:20260416T104718Z
UID:11461-1789776000-1789862399@eastdorset.camra.org.uk
SUMMARY:Lymington tour
DESCRIPTION:Trains to be advised
URL:https://eastdorset.camra.org.uk/index.php/event/lymington-tour/
CATEGORIES:Social
END:VEVENT
BEGIN:VEVENT
DTSTART;VALUE=DATE:20261003
DTEND;VALUE=DATE:20261004
DTSTAMP:20260419T164953
CREATED:20260416T104840Z
LAST-MODIFIED:20260416T104840Z
UID:11463-1790985600-1791071999@eastdorset.camra.org.uk
SUMMARY:Ascot Racing Weekend and Beer Festival
DESCRIPTION:tbc
URL:https://eastdorset.camra.org.uk/index.php/event/ascot-racing-weekend-and-beer-festival/
CATEGORIES:Social
END:VEVENT
BEGIN:VEVENT
DTSTART;VALUE=DATE:20261017
DTEND;VALUE=DATE:20261018
DTSTAMP:20260419T164953
CREATED:20260416T104925Z
LAST-MODIFIED:20260416T104925Z
UID:11465-1792195200-1792281599@eastdorset.camra.org.uk
SUMMARY:Weymouth Octoberfest
DESCRIPTION:
URL:https://eastdorset.camra.org.uk/index.php/event/weymouth-octoberfest/
CATEGORIES:Social
END:VEVENT
BEGIN:VEVENT
DTSTART;TZID=Europe/London:20261023T200000
DTEND;TZID=Europe/London:20261023T213000
DTSTAMP:20260419T164953
CREATED:20260416T105011Z
LAST-MODIFIED:20260416T105011Z
UID:11467-1792785600-1792791000@eastdorset.camra.org.uk
SUMMARY:Branch Meeting
DESCRIPTION:The Grasshopper\, Parkstone\, 8pm
URL:https://eastdorset.camra.org.uk/index.php/event/branch-meeting-9/
CATEGORIES:Meeting
END:VEVENT
END:VCALENDAR