BEGIN:VCALENDAR
VERSION:2.0
PRODID:-//East Dorset CAMRA - ECPv6.15.20//NONSGML v1.0//EN
CALSCALE:GREGORIAN
METHOD:PUBLISH
X-WR-CALNAME:East Dorset CAMRA
X-ORIGINAL-URL:https://eastdorset.camra.org.uk
X-WR-CALDESC:Events for East Dorset CAMRA
REFRESH-INTERVAL;VALUE=DURATION:PT1H
X-Robots-Tag:noindex
X-PUBLISHED-TTL:PT1H
BEGIN:VTIMEZONE
TZID:Europe/London
BEGIN:DAYLIGHT
TZOFFSETFROM:+0000
TZOFFSETTO:+0100
TZNAME:BST
DTSTART:20240331T010000
END:DAYLIGHT
BEGIN:STANDARD
TZOFFSETFROM:+0100
TZOFFSETTO:+0000
TZNAME:GMT
DTSTART:20241027T010000
END:STANDARD
BEGIN:DAYLIGHT
TZOFFSETFROM:+0000
TZOFFSETTO:+0100
TZNAME:BST
DTSTART:20250330T010000
END:DAYLIGHT
BEGIN:STANDARD
TZOFFSETFROM:+0100
TZOFFSETTO:+0000
TZNAME:GMT
DTSTART:20251026T010000
END:STANDARD
BEGIN:DAYLIGHT
TZOFFSETFROM:+0000
TZOFFSETTO:+0100
TZNAME:BST
DTSTART:20260329T010000
END:DAYLIGHT
BEGIN:STANDARD
TZOFFSETFROM:+0100
TZOFFSETTO:+0000
TZNAME:GMT
DTSTART:20261025T010000
END:STANDARD
BEGIN:DAYLIGHT
TZOFFSETFROM:+0000
TZOFFSETTO:+0100
TZNAME:BST
DTSTART:20270328T010000
END:DAYLIGHT
BEGIN:STANDARD
TZOFFSETFROM:+0100
TZOFFSETTO:+0000
TZNAME:GMT
DTSTART:20271031T010000
END:STANDARD
END:VTIMEZONE
BEGIN:VEVENT
DTSTART;TZID=Europe/London:20260227T200000
DTEND;TZID=Europe/London:20260227T213000
DTSTAMP:20260420T033647
CREATED:20260126T233628Z
LAST-MODIFIED:20260126T233628Z
UID:11299-1772222400-1772227800@eastdorset.camra.org.uk
SUMMARY:Branch Meeting
DESCRIPTION:27th February @ The Kings Head\, Poole\, 8pm start.
URL:https://eastdorset.camra.org.uk/index.php/event/branch-meeting-3/
CATEGORIES:Meeting
END:VEVENT
BEGIN:VEVENT
DTSTART;TZID=Europe/London:20260221T130000
DTEND;TZID=Europe/London:20260221T170000
DTSTAMP:20260420T033647
CREATED:20260112T194356Z
LAST-MODIFIED:20260205T181250Z
UID:11273-1771678800-1771693200@eastdorset.camra.org.uk
SUMMARY:Brewers Folly Tap Room + RPOTY Presentation
DESCRIPTION:Meet at the Brewers Folly @ 1pm \nPresentation for RPOTY\, Eight Arch @ 4pm
URL:https://eastdorset.camra.org.uk/index.php/event/brewers-folly-tap-room/
CATEGORIES:Social
END:VEVENT
BEGIN:VEVENT
DTSTART;TZID=Europe/London:20260218T123000
DTEND;TZID=Europe/London:20260218T170000
DTSTAMP:20260420T033647
CREATED:20260112T194301Z
LAST-MODIFIED:20260112T194301Z
UID:11271-1771417800-1771434000@eastdorset.camra.org.uk
SUMMARY:Don Spot - Winton
DESCRIPTION:Meet in The Silverback @ 1230
URL:https://eastdorset.camra.org.uk/index.php/event/don-spot-winton/
CATEGORIES:Social
END:VEVENT
BEGIN:VEVENT
DTSTART;VALUE=DATE:20260207
DTEND;VALUE=DATE:20260208
DTSTAMP:20260420T033647
CREATED:20260112T194203Z
LAST-MODIFIED:20260112T194203Z
UID:11269-1770422400-1770508799@eastdorset.camra.org.uk
SUMMARY:Dorchester Beer Festival
DESCRIPTION:Train departs Bournemouth @ 0930 & Poole @ 0943\, arrives Dorchester South @ 1011
URL:https://eastdorset.camra.org.uk/index.php/event/dorchester-beer-festival/
CATEGORIES:Social
END:VEVENT
BEGIN:VEVENT
DTSTART;TZID=Europe/London:20260205T123000
DTEND;TZID=Europe/London:20260205T170000
DTSTAMP:20260420T033647
CREATED:20260112T194050Z
LAST-MODIFIED:20260112T194050Z
UID:11267-1770294600-1770310800@eastdorset.camra.org.uk
SUMMARY:Thirsty Thursday
DESCRIPTION:Meet in The Hour Glass\, New Milton @ 1230
URL:https://eastdorset.camra.org.uk/index.php/event/thirsty-thursday-3/
CATEGORIES:Social
END:VEVENT
BEGIN:VEVENT
DTSTART;TZID=Europe/London:20260131T130000
DTEND;TZID=Europe/London:20260131T170000
DTSTAMP:20260420T033647
CREATED:20260112T193921Z
LAST-MODIFIED:20260112T193921Z
UID:11265-1769864400-1769878800@eastdorset.camra.org.uk
SUMMARY:Winter Rural POTS Presentation
DESCRIPTION:The Owls Nest @ 1pm. X6 bus depart Poole @ 1145. \nNumber 13 bus departs Bournemouth @ 1115
URL:https://eastdorset.camra.org.uk/index.php/event/winter-rural-pots-presentation-2/
CATEGORIES:Social
END:VEVENT
BEGIN:VEVENT
DTSTART;TZID=Europe/London:20260125T140000
DTEND;TZID=Europe/London:20260125T163000
DTSTAMP:20260420T033647
CREATED:20251125T082330Z
LAST-MODIFIED:20260106T131705Z
UID:11209-1769349600-1769358600@eastdorset.camra.org.uk
SUMMARY:Annual General Meeting
DESCRIPTION:CHANGE OF DATE \nAGM – Sunday 25th January 2026 from 2pm at The Barking Cat\, Ashley Road\, Parkstone\, Poole
URL:https://eastdorset.camra.org.uk/index.php/event/annual-general-meeting-2/
LOCATION:The Barking Cat Ale House\, 182-184 Ashley Road\, BH14 9BY
CATEGORIES:Meeting
END:VEVENT
BEGIN:VEVENT
DTSTART;VALUE=DATE:20260125
DTEND;VALUE=DATE:20260126
DTSTAMP:20260420T033647
CREATED:20260112T193807Z
LAST-MODIFIED:20260112T193807Z
UID:11263-1769299200-1769385599@eastdorset.camra.org.uk
SUMMARY:Winter POTS Presentation
DESCRIPTION:The Barking Cat (during AGM meeting)
URL:https://eastdorset.camra.org.uk/index.php/event/winter-pots-presentation/
CATEGORIES:Meeting
END:VEVENT
BEGIN:VEVENT
DTSTART;TZID=Europe/London:20260117T170000
DTEND;TZID=Europe/London:20260117T223000
DTSTAMP:20260420T033647
CREATED:20260112T193707Z
LAST-MODIFIED:20260112T193707Z
UID:11261-1768669200-1768689000@eastdorset.camra.org.uk
SUMMARY:Poole Pub Tour
DESCRIPTION:Meet in The Brewhouse & Kitchen @ 1700. \nAnyone welcome to bring crib board/games to play during the tour
URL:https://eastdorset.camra.org.uk/index.php/event/poole-pub-tour/
CATEGORIES:Social
END:VEVENT
BEGIN:VEVENT
DTSTART;TZID=Europe/London:20260114T123000
DTEND;TZID=Europe/London:20260114T160000
DTSTAMP:20260420T033647
CREATED:20260112T193536Z
LAST-MODIFIED:20260112T193536Z
UID:11259-1768393800-1768406400@eastdorset.camra.org.uk
SUMMARY:Don Spot - Wimborne
DESCRIPTION:Meet in The Green Man @ 1230
URL:https://eastdorset.camra.org.uk/index.php/event/don-spot-wimborne-2/
CATEGORIES:Social
END:VEVENT
BEGIN:VEVENT
DTSTART;TZID=Europe/London:20260111T130000
DTEND;TZID=Europe/London:20260111T150000
DTSTAMP:20260420T033647
CREATED:20260106T131952Z
LAST-MODIFIED:20260106T132120Z
UID:11239-1768136400-1768143600@eastdorset.camra.org.uk
SUMMARY:Branch Meeting
DESCRIPTION:
URL:https://eastdorset.camra.org.uk/index.php/event/branch-meeting-2/
LOCATION:The Barking Cat Ale House\, 182-184 Ashley Road\, BH14 9BY
CATEGORIES:Meeting
END:VEVENT
BEGIN:VEVENT
DTSTART;TZID=Europe/London:20251220T120000
DTEND;TZID=Europe/London:20251220T190000
DTSTAMP:20260420T033647
CREATED:20250929T125441Z
LAST-MODIFIED:20251130T222608Z
UID:11055-1766232000-1766257200@eastdorset.camra.org.uk
SUMMARY:M1 M2 Pub Crawl
DESCRIPTION:Meet in The Wight Bear @ 12:00
URL:https://eastdorset.camra.org.uk/index.php/event/m1-m2-pub-crawl/
CATEGORIES:Social
END:VEVENT
BEGIN:VEVENT
DTSTART;VALUE=DATE:20251213
DTEND;VALUE=DATE:20251214
DTSTAMP:20260420T033647
CREATED:20250727T203145Z
LAST-MODIFIED:20250929T125308Z
UID:10629-1765584000-1765670399@eastdorset.camra.org.uk
SUMMARY:Christmas Trip
DESCRIPTION:Visiting Eli’s\, Episcopi\, Glastonbury and The Bell Inn\, Warminster \nPick ups will be Pokesdown (0915)\, Bournemouth (0925)\, Parkstone (0935)\, Poole (0945)\nSeat Cost will be £15. \nPay for seats via branch Paypal account or contact Steve Charlton
URL:https://eastdorset.camra.org.uk/index.php/event/chistmas-trip/
CATEGORIES:Social
END:VEVENT
BEGIN:VEVENT
DTSTART;TZID=Europe/London:20251206T123000
DTEND;TZID=Europe/London:20251206T190000
DTSTAMP:20260420T033647
CREATED:20250929T125141Z
LAST-MODIFIED:20250929T125141Z
UID:11052-1765024200-1765047600@eastdorset.camra.org.uk
SUMMARY:Salisbury xmas Shopping Trip
DESCRIPTION:Meet in The Village @ 1230. X3 bus departs Bournemouth @ 1050 – arrives Salisbury Train Station @ 1221
URL:https://eastdorset.camra.org.uk/index.php/event/salisbury-xmas-shopping-trip/
CATEGORIES:Social
END:VEVENT
BEGIN:VEVENT
DTSTART;TZID=Europe/London:20251204T123000
DTEND;TZID=Europe/London:20251204T170000
DTSTAMP:20260420T033647
CREATED:20250929T124950Z
LAST-MODIFIED:20250929T124950Z
UID:11050-1764851400-1764867600@eastdorset.camra.org.uk
SUMMARY:Thirsty Thursday
DESCRIPTION:Meet in The Hour Glass\, New Milton @ 1230
URL:https://eastdorset.camra.org.uk/index.php/event/thirsty-thursday-2/
CATEGORIES:Social
END:VEVENT
BEGIN:VEVENT
DTSTART;TZID=Europe/London:20251128T200000
DTEND;TZID=Europe/London:20251128T213000
DTSTAMP:20260420T033647
CREATED:20251125T082116Z
LAST-MODIFIED:20251125T082116Z
UID:11207-1764360000-1764365400@eastdorset.camra.org.uk
SUMMARY:Branch Meeting
DESCRIPTION:28th November 2025 at The Goat and Tricycle from 8pm
URL:https://eastdorset.camra.org.uk/index.php/event/branch-meeting/
LOCATION:Goat & Tricycle\, BH2 5PF
CATEGORIES:Meeting
END:VEVENT
BEGIN:VEVENT
DTSTART;TZID=Europe/London:20251122T130000
DTEND;TZID=Europe/London:20251122T210000
DTSTAMP:20260420T033647
CREATED:20250717T194536Z
LAST-MODIFIED:20250727T210314Z
UID:10611-1763816400-1763845200@eastdorset.camra.org.uk
SUMMARY:Minibus Trip: Mid-Dorset
DESCRIPTION:Pick up from All Hail Ale @ 1300 \nVisiting pubs including The Ibberton\, The Crown (Winterbourne Stickland) & The Vine. \nSeat Cost will be £15. Pay for seats via branch Paypal account or contact Steve Charlton.
URL:https://eastdorset.camra.org.uk/index.php/event/minibus-trip-mid-dorset-2/
CATEGORIES:Social
END:VEVENT
BEGIN:VEVENT
DTSTART;TZID=Europe/London:20251115T140000
DTEND;TZID=Europe/London:20251115T180000
DTSTAMP:20260420T033647
CREATED:20250929T124731Z
LAST-MODIFIED:20250929T124731Z
UID:11048-1763215200-1763229600@eastdorset.camra.org.uk
SUMMARY:Broadstone - Poole Pub Tour
DESCRIPTION:Meet in The Black Water Stream @ 1400
URL:https://eastdorset.camra.org.uk/index.php/event/broadstone-poole-pub-tour/
CATEGORIES:Social
END:VEVENT
BEGIN:VEVENT
DTSTART;TZID=Europe/London:20251112T123000
DTEND;TZID=Europe/London:20251112T170000
DTSTAMP:20260420T033647
CREATED:20250929T124557Z
LAST-MODIFIED:20250929T124557Z
UID:11046-1762950600-1762966800@eastdorset.camra.org.uk
SUMMARY:Don Spot: Wareham
DESCRIPTION:Meet in The Quay @ 1230
URL:https://eastdorset.camra.org.uk/index.php/event/don-spot-wareham-2/
CATEGORIES:Social
END:VEVENT
BEGIN:VEVENT
DTSTART;TZID=Europe/London:20251106T123000
DTEND;TZID=Europe/London:20251106T170000
DTSTAMP:20260420T033647
CREATED:20250929T124451Z
LAST-MODIFIED:20250929T124451Z
UID:11044-1762432200-1762448400@eastdorset.camra.org.uk
SUMMARY:Thirsty Thursday
DESCRIPTION:Meet in The Hour Glass\, New Milton @ 1230
URL:https://eastdorset.camra.org.uk/index.php/event/thirsty-thursday/
CATEGORIES:Social
END:VEVENT
BEGIN:VEVENT
DTSTART;TZID=Europe/London:20251025T130000
DTEND;TZID=Europe/London:20251025T203000
DTSTAMP:20260420T033647
CREATED:20250717T194417Z
LAST-MODIFIED:20250727T210224Z
UID:10609-1761397200-1761424200@eastdorset.camra.org.uk
SUMMARY:Minibus Trip: Shaftesbury
DESCRIPTION:Pick up from The Barking Cat @ 1300 \nAn opportunity to visit the pubs of the town with stops on the way there and back. \nSeat Cost will be £15. Pay for seats via branch Paypal account or contact Steve Charlton.
URL:https://eastdorset.camra.org.uk/index.php/event/minibus-trip-shaftesbury-2/
CATEGORIES:Social
END:VEVENT
BEGIN:VEVENT
DTSTART;TZID=Europe/London:20251015T123000
DTEND;TZID=Europe/London:20251015T170000
DTSTAMP:20260420T033647
CREATED:20250727T203006Z
LAST-MODIFIED:20250727T203006Z
UID:10627-1760531400-1760547600@eastdorset.camra.org.uk
SUMMARY:Don Spot: Romsey
DESCRIPTION:Meet in The Star Inn @ 1230
URL:https://eastdorset.camra.org.uk/index.php/event/don-spot-romsey/
CATEGORIES:Social
END:VEVENT
BEGIN:VEVENT
DTSTART;TZID=Europe/London:20251011T130000
DTEND;TZID=Europe/London:20251011T190000
DTSTAMP:20260420T033647
CREATED:20250929T124054Z
LAST-MODIFIED:20250929T124054Z
UID:11041-1760187600-1760209200@eastdorset.camra.org.uk
SUMMARY:Swanage Pub Tour
DESCRIPTION:Meet in The White Swan @ 1300
URL:https://eastdorset.camra.org.uk/index.php/event/swanage-pub-tour/
CATEGORIES:Social
END:VEVENT
BEGIN:VEVENT
DTSTART;VALUE=DATE:20251004
DTEND;VALUE=DATE:20251005
DTSTAMP:20260420T033647
CREATED:20250727T202636Z
LAST-MODIFIED:20250727T202636Z
UID:10623-1759536000-1759622399@eastdorset.camra.org.uk
SUMMARY:Weymouth Beer Festival trip
DESCRIPTION:Ticket info awaited
URL:https://eastdorset.camra.org.uk/index.php/event/weymouth-beer-festival-trip-2/
CATEGORIES:Social
END:VEVENT
BEGIN:VEVENT
DTSTART;TZID=Europe/London:20251002T123000
DTEND;TZID=Europe/London:20251002T170000
DTSTAMP:20260420T033647
CREATED:20250727T202555Z
LAST-MODIFIED:20250727T202555Z
UID:10621-1759408200-1759424400@eastdorset.camra.org.uk
SUMMARY:Thirsty Thursday
DESCRIPTION:Meet in The Hour Glass\, New Milton @ 1230
URL:https://eastdorset.camra.org.uk/index.php/event/thirsty-thursday-51/
CATEGORIES:Social
END:VEVENT
BEGIN:VEVENT
DTSTART;TZID=Europe/London:20250927T130000
DTEND;TZID=Europe/London:20250927T203000
DTSTAMP:20260420T033647
CREATED:20250520T225311Z
LAST-MODIFIED:20250917T215720Z
UID:10505-1758978000-1759005000@eastdorset.camra.org.uk
SUMMARY:Minibus Trip: Purbecks
DESCRIPTION:Pick up from The Brewhouse @ 1300 \nVisiting pubs including The Bankes Arms\, Kings Arms\, Square and Compass. \nSeat Cost will be £15. Pay for seats via branch Paypal account or contact Steve Charlton.
URL:https://eastdorset.camra.org.uk/index.php/event/minibus-trip-7/
CATEGORIES:Social
END:VEVENT
BEGIN:VEVENT
DTSTART;TZID=Europe/London:20250927T120000
DTEND;TZID=Europe/London:20250927T130000
DTSTAMP:20260420T033648
CREATED:20250917T215605Z
LAST-MODIFIED:20250917T215605Z
UID:11004-1758974400-1758978000@eastdorset.camra.org.uk
SUMMARY:Autumn Pub of the Season presentation
DESCRIPTION:27th September\nThe Brewhouse at 12pm
URL:https://eastdorset.camra.org.uk/index.php/event/autumn-pub-of-the-season-presentation/
CATEGORIES:Meeting
END:VEVENT
BEGIN:VEVENT
DTSTART;TZID=Europe/London:20250926T200000
DTEND;TZID=Europe/London:20250926T220000
DTSTAMP:20260420T033648
CREATED:20250727T202358Z
LAST-MODIFIED:20250727T202358Z
UID:10619-1758916800-1758924000@eastdorset.camra.org.uk
SUMMARY:Branch Meeting
DESCRIPTION:Duke of Wellington\, Wareham – meeting at 8pm
URL:https://eastdorset.camra.org.uk/index.php/event/branch-meeting-35/
CATEGORIES:Meeting
END:VEVENT
BEGIN:VEVENT
DTSTART;TZID=Europe/London:20250920T120000
DTEND;TZID=Europe/London:20250920T170000
DTSTAMP:20260420T033648
CREATED:20250917T215301Z
LAST-MODIFIED:20250917T215301Z
UID:11002-1758369600-1758387600@eastdorset.camra.org.uk
SUMMARY:Pub of the Season presentations
DESCRIPTION:The Vine Inn\, Pamphill at 12pm\n\nEight Arch Brewing Company. Wimborne at 2pm
URL:https://eastdorset.camra.org.uk/index.php/event/pub-of-the-season-presentations/
CATEGORIES:Meeting
END:VEVENT
BEGIN:VEVENT
DTSTART;TZID=Europe/London:20250917T123000
DTEND;TZID=Europe/London:20250917T170000
DTSTAMP:20260420T033648
CREATED:20250717T194122Z
LAST-MODIFIED:20250717T194122Z
UID:10607-1758112200-1758128400@eastdorset.camra.org.uk
SUMMARY:Don Spot: Kinson
DESCRIPTION:Meet in The Acorn @ 1230
URL:https://eastdorset.camra.org.uk/index.php/event/don-spot-kinson-2/
CATEGORIES:Social
END:VEVENT
END:VCALENDAR