BEGIN:VCALENDAR
VERSION:2.0
PRODID:-//East Dorset CAMRA - ECPv6.15.20//NONSGML v1.0//EN
CALSCALE:GREGORIAN
METHOD:PUBLISH
X-WR-CALNAME:East Dorset CAMRA
X-ORIGINAL-URL:https://eastdorset.camra.org.uk
X-WR-CALDESC:Events for East Dorset CAMRA
REFRESH-INTERVAL;VALUE=DURATION:PT1H
X-Robots-Tag:noindex
X-PUBLISHED-TTL:PT1H
BEGIN:VTIMEZONE
TZID:Europe/London
BEGIN:DAYLIGHT
TZOFFSETFROM:+0000
TZOFFSETTO:+0100
TZNAME:BST
DTSTART:20240331T010000
END:DAYLIGHT
BEGIN:STANDARD
TZOFFSETFROM:+0100
TZOFFSETTO:+0000
TZNAME:GMT
DTSTART:20241027T010000
END:STANDARD
BEGIN:DAYLIGHT
TZOFFSETFROM:+0000
TZOFFSETTO:+0100
TZNAME:BST
DTSTART:20250330T010000
END:DAYLIGHT
BEGIN:STANDARD
TZOFFSETFROM:+0100
TZOFFSETTO:+0000
TZNAME:GMT
DTSTART:20251026T010000
END:STANDARD
BEGIN:DAYLIGHT
TZOFFSETFROM:+0000
TZOFFSETTO:+0100
TZNAME:BST
DTSTART:20260329T010000
END:DAYLIGHT
BEGIN:STANDARD
TZOFFSETFROM:+0100
TZOFFSETTO:+0000
TZNAME:GMT
DTSTART:20261025T010000
END:STANDARD
END:VTIMEZONE
BEGIN:VEVENT
DTSTART;TZID=Europe/London:20250913T090000
DTEND;TZID=Europe/London:20250913T190000
DTSTAMP:20260419T232117
CREATED:20250717T193854Z
LAST-MODIFIED:20250727T203302Z
UID:10605-1757754000-1757790000@eastdorset.camra.org.uk
SUMMARY:Sturminster Newton Cheese Festival
DESCRIPTION:Coach Pick ups from 0915. \nPokesdown (opposite the train station) @ 0915\, Bournemouth (Holdenhurst Road opposite the petrol station) @ 0925\, Parkstone (Ashley Road\, bus stops opposite Makkah) @ 0935 and Poole (Holes Bay Road\, bus stop near Asda) @ 0945. \nWe should arrive at the festival for 1030 and depart at 1730 giving a full day to explore the festival and possibly a couple of the pubs in Sturminster Newton should you choose. \nSeat Cost will be £15. Pay for seats via branch Paypal account or contact Steve Charlton. \nThis does not include festival entrance tickets which can be bought from the website at early bird rate until the end of July. \nMore info: https://www.cheesefestival.co.uk/ \n 
URL:https://eastdorset.camra.org.uk/index.php/event/sturminster-newton-cheese-festival/
CATEGORIES:Social
END:VEVENT
BEGIN:VEVENT
DTSTART;TZID=Europe/London:20250904T123000
DTEND;TZID=Europe/London:20250904T170000
DTSTAMP:20260419T232117
CREATED:20250717T192841Z
LAST-MODIFIED:20250717T192841Z
UID:10603-1756989000-1757005200@eastdorset.camra.org.uk
SUMMARY:Thirsty Thursday
DESCRIPTION:Meet in The Hour Glass\, New Milton @ 1230
URL:https://eastdorset.camra.org.uk/index.php/event/thirsty-thursday-50/
CATEGORIES:Social
END:VEVENT
BEGIN:VEVENT
DTSTART;TZID=Europe/London:20250823T120000
DTEND;TZID=Europe/London:20250823T180000
DTSTAMP:20260419T232117
CREATED:20250727T202259Z
LAST-MODIFIED:20250804T213718Z
UID:10617-1755950400-1755972000@eastdorset.camra.org.uk
SUMMARY:Branch Meeting\, POTS presentation & pub tour
DESCRIPTION:Acorn\, Kinson – meeting starts 12.00 noon – Summer POTS presentation at 1pm. \nFollowed by pub tour to Winton.
URL:https://eastdorset.camra.org.uk/index.php/event/branch-meeting-34/
CATEGORIES:Meeting,Social
END:VEVENT
BEGIN:VEVENT
DTSTART;TZID=Europe/London:20250813T123000
DTEND;TZID=Europe/London:20250813T170000
DTSTAMP:20260419T232117
CREATED:20250717T192706Z
LAST-MODIFIED:20250717T192706Z
UID:10598-1755088200-1755104400@eastdorset.camra.org.uk
SUMMARY:Don Spot: Weymouth
DESCRIPTION:Meet in The William Henry @ 1230
URL:https://eastdorset.camra.org.uk/index.php/event/don-spot-weymouth/
CATEGORIES:Social
END:VEVENT
BEGIN:VEVENT
DTSTART;TZID=Europe/London:20250809T130000
DTEND;TZID=Europe/London:20250809T210000
DTSTAMP:20260419T232117
CREATED:20250717T192601Z
LAST-MODIFIED:20250717T192601Z
UID:10596-1754744400-1754773200@eastdorset.camra.org.uk
SUMMARY:Minibus Trip: Ringwood\, Verwood\, Wimborne\, West Parley
DESCRIPTION:Pick up from The White Bear @ 1300 \nVisiting pubs in the Ringwood and North East of our branch area\nSeat Cost will be £15. Pay for seats via branch Paypal account or contact Steve Charlton.
URL:https://eastdorset.camra.org.uk/index.php/event/minibus-trip-ringwood-verwood-wimborne-west-parley/
CATEGORIES:Social
END:VEVENT
BEGIN:VEVENT
DTSTART;TZID=Europe/London:20250807T123000
DTEND;TZID=Europe/London:20250807T170000
DTSTAMP:20260419T232117
CREATED:20250717T192449Z
LAST-MODIFIED:20250803T110453Z
UID:10594-1754569800-1754586000@eastdorset.camra.org.uk
SUMMARY:Thirsty Thursday
DESCRIPTION:Meet in The Hour Glass\, New Milton @ 1230
URL:https://eastdorset.camra.org.uk/index.php/event/thirsty-thursday-49/
CATEGORIES:Social
END:VEVENT
BEGIN:VEVENT
DTSTART;TZID=Europe/London:20250802T100000
DTEND;TZID=Europe/London:20250802T170000
DTSTAMP:20260419T232117
CREATED:20250717T192344Z
LAST-MODIFIED:20250717T194920Z
UID:10592-1754128800-1754154000@eastdorset.camra.org.uk
SUMMARY:Dark Revolution Brewery Tap
DESCRIPTION:X3 bus departs Bournemouth @ 1020\nWill also visit some pubs in Salisbury before returning
URL:https://eastdorset.camra.org.uk/index.php/event/dark-revolution-brewery-tapx3-bus-departs-bournemouth-1020-will-also-visit-some-pubs-in-salisbury-before-returning/
CATEGORIES:Social
END:VEVENT
BEGIN:VEVENT
DTSTART;TZID=Europe/London:20250727T140000
DTEND;TZID=Europe/London:20250727T153000
DTSTAMP:20260419T232117
CREATED:20250520T224422Z
LAST-MODIFIED:20250520T224422Z
UID:10488-1753624800-1753630200@eastdorset.camra.org.uk
SUMMARY:Branch Meeting
DESCRIPTION:Sunday 27th July – The Barking Cat @ 2pm
URL:https://eastdorset.camra.org.uk/index.php/event/branch-meeting-33/
LOCATION:The Barking Cat Ale House\, 182-184 Ashley Road\, BH14 9BY
CATEGORIES:Meeting
END:VEVENT
BEGIN:VEVENT
DTSTART;TZID=Europe/London:20250716T123000
DTEND;TZID=Europe/London:20250716T170000
DTSTAMP:20260419T232117
CREATED:20250520T225112Z
LAST-MODIFIED:20250520T225112Z
UID:10501-1752669000-1752685200@eastdorset.camra.org.uk
SUMMARY:Don Spot: Worthing
DESCRIPTION:Meet in The Anchored @ 1230
URL:https://eastdorset.camra.org.uk/index.php/event/don-spot-worthing-2/
CATEGORIES:Social
END:VEVENT
BEGIN:VEVENT
DTSTART;TZID=Europe/London:20250712T130000
DTEND;TZID=Europe/London:20250712T203000
DTSTAMP:20260419T232117
CREATED:20250520T225216Z
LAST-MODIFIED:20250524T082421Z
UID:10503-1752325200-1752352200@eastdorset.camra.org.uk
SUMMARY:Minibus Trip
DESCRIPTION:Pick up from All Hail Ale @ 1300 \nVisiting pubs in the North of our branch area \nSeat Cost will be £15. Pay for seats via branch Paypal account or contact Steve Charlton.
URL:https://eastdorset.camra.org.uk/index.php/event/minibus-trip-6/
CATEGORIES:Social
END:VEVENT
BEGIN:VEVENT
DTSTART;TZID=Europe/London:20250705T113000
DTEND;TZID=Europe/London:20250705T170000
DTSTAMP:20260419T232117
CREATED:20250520T224911Z
LAST-MODIFIED:20250520T224911Z
UID:10497-1751715000-1751734800@eastdorset.camra.org.uk
SUMMARY:Skittles Match against West Dorset branch
DESCRIPTION:Match to take place at Tom Browns\, Dorchester from 1130. \n£3 donation from all players for the volunteer skittle racker. There will be a ploughgmans lunch for all players. \nContact Steve Charlton to be included in the team
URL:https://eastdorset.camra.org.uk/index.php/event/skittles-match-against-west-dorset-branch/
CATEGORIES:Social
END:VEVENT
BEGIN:VEVENT
DTSTART;TZID=Europe/London:20250628T143000
DTEND;TZID=Europe/London:20250628T160000
DTSTAMP:20260419T232118
CREATED:20250520T224330Z
LAST-MODIFIED:20250520T224330Z
UID:10486-1751121000-1751126400@eastdorset.camra.org.uk
SUMMARY:Branch Meeting
DESCRIPTION:Saturday 28th June – Corfe Castle Club @ 2.30pm
URL:https://eastdorset.camra.org.uk/index.php/event/branch-meeting-32/
LOCATION:Corfe Castle Club\, 70 East Street\, Corfe Castle\, BH20 5EQ
CATEGORIES:Meeting
END:VEVENT
BEGIN:VEVENT
DTSTART;TZID=Europe/London:20250621T120000
DTEND;TZID=Europe/London:20250621T170000
DTSTAMP:20260419T232118
CREATED:20250520T224758Z
LAST-MODIFIED:20250520T224758Z
UID:10495-1750507200-1750525200@eastdorset.camra.org.uk
SUMMARY:Pub Tour\, Wimborne
DESCRIPTION:Meet in The Lord Wimborne @ 1200
URL:https://eastdorset.camra.org.uk/index.php/event/pub-tour-wimborne/
CATEGORIES:Social
END:VEVENT
BEGIN:VEVENT
DTSTART;VALUE=DATE:20250614
DTEND;VALUE=DATE:20250615
DTSTAMP:20260419T232118
CREATED:20250520T224710Z
LAST-MODIFIED:20250520T224710Z
UID:10493-1749859200-1749945599@eastdorset.camra.org.uk
SUMMARY:Hall & Woodhouse Beer festival
DESCRIPTION:
URL:https://eastdorset.camra.org.uk/index.php/event/hall-woodhouse-beer-festival-2/
CATEGORIES:Social
END:VEVENT
BEGIN:VEVENT
DTSTART;TZID=Europe/London:20250611T123000
DTEND;TZID=Europe/London:20250611T170000
DTSTAMP:20260419T232118
CREATED:20250520T224627Z
LAST-MODIFIED:20250520T224627Z
UID:10491-1749645000-1749661200@eastdorset.camra.org.uk
SUMMARY:Don Spot: Langton Matravers to Corfe Castle
DESCRIPTION:Meet in the Kings Arms\, Langton Matravers @ 1230
URL:https://eastdorset.camra.org.uk/index.php/event/don-spot-langton-matravers-to-corfe-castle/
CATEGORIES:Social
END:VEVENT
BEGIN:VEVENT
DTSTART;TZID=Europe/London:20250607T130000
DTEND;TZID=Europe/London:20250607T203000
DTSTAMP:20260419T232118
CREATED:20250312T134122Z
LAST-MODIFIED:20250524T083007Z
UID:10451-1749301200-1749328200@eastdorset.camra.org.uk
SUMMARY:Minibus Trip - UPDATED
DESCRIPTION:Pick up from The Barking Cat @ 1300\nVisiting pubs in the West of our branch area\nSeat Cost will be £15. Pay for seats via branch Paypal account or contact Steve Charlton.
URL:https://eastdorset.camra.org.uk/index.php/event/minibus-trip-4/
CATEGORIES:Social
END:VEVENT
BEGIN:VEVENT
DTSTART;TZID=Europe/London:20250605T123000
DTEND;TZID=Europe/London:20250605T170000
DTSTAMP:20260419T232118
CREATED:20250312T134054Z
LAST-MODIFIED:20250312T134054Z
UID:10449-1749126600-1749142800@eastdorset.camra.org.uk
SUMMARY:Thirsty Thursday
DESCRIPTION:Meet in The Hour Glass\, New Milton @ 1230
URL:https://eastdorset.camra.org.uk/index.php/event/thirsty-thursday-48/
CATEGORIES:Social
END:VEVENT
BEGIN:VEVENT
DTSTART;TZID=Europe/London:20250530T200000
DTEND;TZID=Europe/London:20250530T213000
DTSTAMP:20260419T232118
CREATED:20250520T224231Z
LAST-MODIFIED:20250520T224231Z
UID:10483-1748635200-1748640600@eastdorset.camra.org.uk
SUMMARY:Branch Meeting
DESCRIPTION:Friday 30th May – Poole Hill Brewery @ 8pm
URL:https://eastdorset.camra.org.uk/index.php/event/branch-meeting-31/
LOCATION:Poole Hill Brewery\, 43-45 Poole Hill\, Bournemouth\, BH2 5PW
CATEGORIES:Meeting
END:VEVENT
BEGIN:VEVENT
DTSTART;TZID=Europe/London:20250514T123000
DTEND;TZID=Europe/London:20250514T170000
DTSTAMP:20260419T232118
CREATED:20250312T134017Z
LAST-MODIFIED:20250312T134017Z
UID:10447-1747225800-1747242000@eastdorset.camra.org.uk
SUMMARY:Don Spot: Salisbury
DESCRIPTION:Meeting place TBC
URL:https://eastdorset.camra.org.uk/index.php/event/don-spot-salisbury/
CATEGORIES:Social
END:VEVENT
BEGIN:VEVENT
DTSTART;VALUE=DATE:20250510
DTEND;VALUE=DATE:20250511
DTSTAMP:20260419T232118
CREATED:20250128T104430Z
LAST-MODIFIED:20250312T133941Z
UID:10355-1746835200-1746921599@eastdorset.camra.org.uk
SUMMARY:Swanage Railway Beer Festival
DESCRIPTION:Bus 40 leaves Poole @ 35 past the hour
URL:https://eastdorset.camra.org.uk/index.php/event/swanage-railway-beer-festival-5/
END:VEVENT
BEGIN:VEVENT
DTSTART;TZID=Europe/London:20250501T123000
DTEND;TZID=Europe/London:20250501T170000
DTSTAMP:20260419T232118
CREATED:20250312T133921Z
LAST-MODIFIED:20250312T133921Z
UID:10444-1746102600-1746118800@eastdorset.camra.org.uk
SUMMARY:Thirsty Thursday
DESCRIPTION:Meet in The Hour Glass\, New Milton @ 1230
URL:https://eastdorset.camra.org.uk/index.php/event/thirsty-thursday-47/
CATEGORIES:Social
END:VEVENT
BEGIN:VEVENT
DTSTART;TZID=Europe/London:20250426T123000
DTEND;TZID=Europe/London:20250426T190000
DTSTAMP:20260419T232118
CREATED:20250312T133835Z
LAST-MODIFIED:20250312T133835Z
UID:10442-1745670600-1745694000@eastdorset.camra.org.uk
SUMMARY:Minibus trip
DESCRIPTION:Pick up from The Brewhouse @ 1230\nPubs to be visited to be confirmed\nSeat Cost will be £15. See me to book places on the trip.
URL:https://eastdorset.camra.org.uk/index.php/event/minibus-trip-3/
CATEGORIES:Social
END:VEVENT
BEGIN:VEVENT
DTSTART;TZID=Europe/London:20250419T150000
DTEND;TZID=Europe/London:20250419T160000
DTSTAMP:20260419T232118
CREATED:20250312T133746Z
LAST-MODIFIED:20250312T133746Z
UID:10440-1745074800-1745078400@eastdorset.camra.org.uk
SUMMARY:Rural Pub of The Year Presentation @ The Horse & Groom\, Wareham
DESCRIPTION:Presentation @ 3pm
URL:https://eastdorset.camra.org.uk/index.php/event/rural-pub-of-the-year-presentation-the-horse-groom-wareham/
CATEGORIES:Meeting
END:VEVENT
BEGIN:VEVENT
DTSTART;VALUE=DATE:20250419
DTEND;VALUE=DATE:20250420
DTSTAMP:20260419T232118
CREATED:20250312T133636Z
LAST-MODIFIED:20250312T133636Z
UID:10437-1745020800-1745107199@eastdorset.camra.org.uk
SUMMARY:Wareham Beer Festival
DESCRIPTION:https://www.eventbrite.co.uk/e/wareham-easter-beerex-2025-tickets-1116592461109
URL:https://eastdorset.camra.org.uk/index.php/event/wareham-beer-festival-3/
CATEGORIES:Social
END:VEVENT
END:VCALENDAR