BEGIN:VCALENDAR
VERSION:2.0
PRODID:-//East Dorset CAMRA - ECPv6.15.20//NONSGML v1.0//EN
CALSCALE:GREGORIAN
METHOD:PUBLISH
X-WR-CALNAME:East Dorset CAMRA
X-ORIGINAL-URL:https://eastdorset.camra.org.uk
X-WR-CALDESC:Events for East Dorset CAMRA
REFRESH-INTERVAL;VALUE=DURATION:PT1H
X-Robots-Tag:noindex
X-PUBLISHED-TTL:PT1H
BEGIN:VTIMEZONE
TZID:Europe/London
BEGIN:DAYLIGHT
TZOFFSETFROM:+0000
TZOFFSETTO:+0100
TZNAME:BST
DTSTART:20250330T010000
END:DAYLIGHT
BEGIN:STANDARD
TZOFFSETFROM:+0100
TZOFFSETTO:+0000
TZNAME:GMT
DTSTART:20251026T010000
END:STANDARD
BEGIN:DAYLIGHT
TZOFFSETFROM:+0000
TZOFFSETTO:+0100
TZNAME:BST
DTSTART:20260329T010000
END:DAYLIGHT
BEGIN:STANDARD
TZOFFSETFROM:+0100
TZOFFSETTO:+0000
TZNAME:GMT
DTSTART:20261025T010000
END:STANDARD
BEGIN:DAYLIGHT
TZOFFSETFROM:+0000
TZOFFSETTO:+0100
TZNAME:BST
DTSTART:20270328T010000
END:DAYLIGHT
BEGIN:STANDARD
TZOFFSETFROM:+0100
TZOFFSETTO:+0000
TZNAME:GMT
DTSTART:20271031T010000
END:STANDARD
END:VTIMEZONE
BEGIN:VEVENT
DTSTART;TZID=Europe/London:20260111T130000
DTEND;TZID=Europe/London:20260111T150000
DTSTAMP:20260421T134816
CREATED:20260106T131952Z
LAST-MODIFIED:20260106T132120Z
UID:11239-1768136400-1768143600@eastdorset.camra.org.uk
SUMMARY:Branch Meeting
DESCRIPTION:
URL:https://eastdorset.camra.org.uk/index.php/event/branch-meeting-2/
LOCATION:The Barking Cat Ale House\, 182-184 Ashley Road\, BH14 9BY
CATEGORIES:Meeting
END:VEVENT
BEGIN:VEVENT
DTSTART;TZID=Europe/London:20260114T123000
DTEND;TZID=Europe/London:20260114T160000
DTSTAMP:20260421T134816
CREATED:20260112T193536Z
LAST-MODIFIED:20260112T193536Z
UID:11259-1768393800-1768406400@eastdorset.camra.org.uk
SUMMARY:Don Spot - Wimborne
DESCRIPTION:Meet in The Green Man @ 1230
URL:https://eastdorset.camra.org.uk/index.php/event/don-spot-wimborne-2/
CATEGORIES:Social
END:VEVENT
BEGIN:VEVENT
DTSTART;TZID=Europe/London:20260117T170000
DTEND;TZID=Europe/London:20260117T223000
DTSTAMP:20260421T134816
CREATED:20260112T193707Z
LAST-MODIFIED:20260112T193707Z
UID:11261-1768669200-1768689000@eastdorset.camra.org.uk
SUMMARY:Poole Pub Tour
DESCRIPTION:Meet in The Brewhouse & Kitchen @ 1700. \nAnyone welcome to bring crib board/games to play during the tour
URL:https://eastdorset.camra.org.uk/index.php/event/poole-pub-tour/
CATEGORIES:Social
END:VEVENT
BEGIN:VEVENT
DTSTART;VALUE=DATE:20260125
DTEND;VALUE=DATE:20260126
DTSTAMP:20260421T134816
CREATED:20260112T193807Z
LAST-MODIFIED:20260112T193807Z
UID:11263-1769299200-1769385599@eastdorset.camra.org.uk
SUMMARY:Winter POTS Presentation
DESCRIPTION:The Barking Cat (during AGM meeting)
URL:https://eastdorset.camra.org.uk/index.php/event/winter-pots-presentation/
CATEGORIES:Meeting
END:VEVENT
BEGIN:VEVENT
DTSTART;TZID=Europe/London:20260125T140000
DTEND;TZID=Europe/London:20260125T163000
DTSTAMP:20260421T134816
CREATED:20251125T082330Z
LAST-MODIFIED:20260106T131705Z
UID:11209-1769349600-1769358600@eastdorset.camra.org.uk
SUMMARY:Annual General Meeting
DESCRIPTION:CHANGE OF DATE \nAGM – Sunday 25th January 2026 from 2pm at The Barking Cat\, Ashley Road\, Parkstone\, Poole
URL:https://eastdorset.camra.org.uk/index.php/event/annual-general-meeting-2/
LOCATION:The Barking Cat Ale House\, 182-184 Ashley Road\, BH14 9BY
CATEGORIES:Meeting
END:VEVENT
BEGIN:VEVENT
DTSTART;TZID=Europe/London:20260131T130000
DTEND;TZID=Europe/London:20260131T170000
DTSTAMP:20260421T134816
CREATED:20260112T193921Z
LAST-MODIFIED:20260112T193921Z
UID:11265-1769864400-1769878800@eastdorset.camra.org.uk
SUMMARY:Winter Rural POTS Presentation
DESCRIPTION:The Owls Nest @ 1pm. X6 bus depart Poole @ 1145. \nNumber 13 bus departs Bournemouth @ 1115
URL:https://eastdorset.camra.org.uk/index.php/event/winter-rural-pots-presentation-2/
CATEGORIES:Social
END:VEVENT
END:VCALENDAR