BEGIN:VCALENDAR
VERSION:2.0
PRODID:-//East Dorset CAMRA - ECPv6.15.20//NONSGML v1.0//EN
CALSCALE:GREGORIAN
METHOD:PUBLISH
X-ORIGINAL-URL:https://eastdorset.camra.org.uk
X-WR-CALDESC:Events for East Dorset CAMRA
REFRESH-INTERVAL;VALUE=DURATION:PT1H
X-Robots-Tag:noindex
X-PUBLISHED-TTL:PT1H
BEGIN:VTIMEZONE
TZID:Europe/London
BEGIN:DAYLIGHT
TZOFFSETFROM:+0000
TZOFFSETTO:+0100
TZNAME:BST
DTSTART:20250330T010000
END:DAYLIGHT
BEGIN:STANDARD
TZOFFSETFROM:+0100
TZOFFSETTO:+0000
TZNAME:GMT
DTSTART:20251026T010000
END:STANDARD
BEGIN:DAYLIGHT
TZOFFSETFROM:+0000
TZOFFSETTO:+0100
TZNAME:BST
DTSTART:20260329T010000
END:DAYLIGHT
BEGIN:STANDARD
TZOFFSETFROM:+0100
TZOFFSETTO:+0000
TZNAME:GMT
DTSTART:20261025T010000
END:STANDARD
BEGIN:DAYLIGHT
TZOFFSETFROM:+0000
TZOFFSETTO:+0100
TZNAME:BST
DTSTART:20270328T010000
END:DAYLIGHT
BEGIN:STANDARD
TZOFFSETFROM:+0100
TZOFFSETTO:+0000
TZNAME:GMT
DTSTART:20271031T010000
END:STANDARD
END:VTIMEZONE
BEGIN:VEVENT
DTSTART;TZID=Europe/London:20260507T123000
DTEND;TZID=Europe/London:20260507T170000
DTSTAMP:20260419T174531
CREATED:20260416T102749Z
LAST-MODIFIED:20260416T102749Z
UID:11427-1778157000-1778173200@eastdorset.camra.org.uk
SUMMARY:Thirsty Thursday
DESCRIPTION:Meet in The Hour Glass\, New Milton @ 1230
URL:https://eastdorset.camra.org.uk/index.php/event/thirsty-thursday-6/
CATEGORIES:Social
END:VEVENT
BEGIN:VEVENT
DTSTART;VALUE=DATE:20260509
DTEND;VALUE=DATE:20260510
DTSTAMP:20260419T174531
CREATED:20260416T102838Z
LAST-MODIFIED:20260416T102838Z
UID:11429-1778284800-1778371199@eastdorset.camra.org.uk
SUMMARY:Swanage Railway Beer Festival
DESCRIPTION:
URL:https://eastdorset.camra.org.uk/index.php/event/swanage-railway-beer-festival/
CATEGORIES:Social
END:VEVENT
BEGIN:VEVENT
DTSTART;TZID=Europe/London:20260513T123000
DTEND;TZID=Europe/London:20260513T170000
DTSTAMP:20260419T174531
CREATED:20260416T102919Z
LAST-MODIFIED:20260416T102919Z
UID:11431-1778675400-1778691600@eastdorset.camra.org.uk
SUMMARY:Don Spot: Lower Parkstone
DESCRIPTION:Meet at the Bricklayers at 12.30 pm
URL:https://eastdorset.camra.org.uk/index.php/event/don-spot-lower-parkstone/
CATEGORIES:Social
END:VEVENT
BEGIN:VEVENT
DTSTART;TZID=Europe/London:20260516T143000
DTEND;TZID=Europe/London:20260516T170000
DTSTAMP:20260419T174531
CREATED:20260205T182212Z
LAST-MODIFIED:20260205T182212Z
UID:11333-1778941800-1778950800@eastdorset.camra.org.uk
SUMMARY:Branch Meeting
DESCRIPTION:Firkin Shed Arch at 2.30pm. Pub will open at 2pm
URL:https://eastdorset.camra.org.uk/index.php/event/branch-meeting-5/
CATEGORIES:Meeting
END:VEVENT
BEGIN:VEVENT
DTSTART;TZID=Europe/London:20260530T130000
DTEND;TZID=Europe/London:20260530T190000
DTSTAMP:20260419T174531
CREATED:20260416T103028Z
LAST-MODIFIED:20260416T103028Z
UID:11433-1780146000-1780167600@eastdorset.camra.org.uk
SUMMARY:Minibus trip 2
DESCRIPTION:Pick up Barking Cat at 1pm. Alderholt\, Cranborne\, Gussage\, Horton & Shapwick
URL:https://eastdorset.camra.org.uk/index.php/event/minibus-trip-2/
CATEGORIES:Social
END:VEVENT
END:VCALENDAR