BEGIN:VCALENDAR
VERSION:2.0
PRODID:-//East Dorset CAMRA - ECPv6.15.20//NONSGML v1.0//EN
CALSCALE:GREGORIAN
METHOD:PUBLISH
X-WR-CALNAME:East Dorset CAMRA
X-ORIGINAL-URL:https://eastdorset.camra.org.uk
X-WR-CALDESC:Events for East Dorset CAMRA
REFRESH-INTERVAL;VALUE=DURATION:PT1H
X-Robots-Tag:noindex
X-PUBLISHED-TTL:PT1H
BEGIN:VTIMEZONE
TZID:Europe/London
BEGIN:DAYLIGHT
TZOFFSETFROM:+0000
TZOFFSETTO:+0100
TZNAME:BST
DTSTART:20250330T010000
END:DAYLIGHT
BEGIN:STANDARD
TZOFFSETFROM:+0100
TZOFFSETTO:+0000
TZNAME:GMT
DTSTART:20251026T010000
END:STANDARD
BEGIN:DAYLIGHT
TZOFFSETFROM:+0000
TZOFFSETTO:+0100
TZNAME:BST
DTSTART:20260329T010000
END:DAYLIGHT
BEGIN:STANDARD
TZOFFSETFROM:+0100
TZOFFSETTO:+0000
TZNAME:GMT
DTSTART:20261025T010000
END:STANDARD
BEGIN:DAYLIGHT
TZOFFSETFROM:+0000
TZOFFSETTO:+0100
TZNAME:BST
DTSTART:20270328T010000
END:DAYLIGHT
BEGIN:STANDARD
TZOFFSETFROM:+0100
TZOFFSETTO:+0000
TZNAME:GMT
DTSTART:20271031T010000
END:STANDARD
END:VTIMEZONE
BEGIN:VEVENT
DTSTART;TZID=Europe/London:20260604T123000
DTEND;TZID=Europe/London:20260604T170000
DTSTAMP:20260419T191249
CREATED:20260416T103122Z
LAST-MODIFIED:20260416T103122Z
UID:11435-1780576200-1780592400@eastdorset.camra.org.uk
SUMMARY:Thirsty Thursday
DESCRIPTION:Meet in The Hour Glass\, New Milton @ 1230
URL:https://eastdorset.camra.org.uk/index.php/event/thirsty-thursday-7/
CATEGORIES:Social
END:VEVENT
BEGIN:VEVENT
DTSTART;TZID=Europe/London:20260617T123000
DTEND;TZID=Europe/London:20260617T170000
DTSTAMP:20260419T191249
CREATED:20260416T103216Z
LAST-MODIFIED:20260416T103216Z
UID:11437-1781699400-1781715600@eastdorset.camra.org.uk
SUMMARY:Don Spot: Dorchester
DESCRIPTION:Meet in the Copper Street Taproom by Dorchester South Station at 12.30 pm
URL:https://eastdorset.camra.org.uk/index.php/event/don-spot-dorchester/
CATEGORIES:Social
END:VEVENT
BEGIN:VEVENT
DTSTART;TZID=Europe/London:20260620T130000
DTEND;TZID=Europe/London:20260620T150000
DTSTAMP:20260419T191249
CREATED:20260416T103302Z
LAST-MODIFIED:20260416T103302Z
UID:11439-1781960400-1781967600@eastdorset.camra.org.uk
SUMMARY:Branch Meeting
DESCRIPTION:Eight Arch Brewery\, Wimborne at 1pm
URL:https://eastdorset.camra.org.uk/index.php/event/branch-meeting-6/
CATEGORIES:Meeting
END:VEVENT
BEGIN:VEVENT
DTSTART;TZID=Europe/London:20260627T123000
DTEND;TZID=Europe/London:20260627T190000
DTSTAMP:20260419T191249
CREATED:20260416T103409Z
LAST-MODIFIED:20260416T103409Z
UID:11441-1782563400-1782586800@eastdorset.camra.org.uk
SUMMARY:Minibus trip 3
DESCRIPTION:Pick up Brewhouse at 12.30pm. Studland\, the Matravers and Church Knowle.
URL:https://eastdorset.camra.org.uk/index.php/event/minibus-trip-3-2/
CATEGORIES:Social
END:VEVENT
END:VCALENDAR